BEGIN:VCALENDAR
VERSION:2.0
PRODID:-//wp-events-plugin.com//7.2.2.1//EN
TZID:Europe/Stockholm
X-WR-TIMEZONE:Europe/Stockholm
BEGIN:VEVENT
UID:460@farmlodge.se
DTSTART;TZID=Europe/Stockholm:20250417T180000
DTEND;TZID=Europe/Stockholm:20250417T210000
DTSTAMP:20250114T103958Z
URL:https://farmlodge.se/events/%f0%9f%8c%b8%f0%9f%90%a3-valkommen-pa-pask
 buffe-pa-skartorsdagen-%f0%9f%90%a3%f0%9f%8c%b8/
SUMMARY:🌸🐣 Välkommen på påskbuffé & musik med Lars och Greger fr
 ån Pepper på skärtorsdagen! 🐣🌸
DESCRIPTION:Starta påskhelgen med en smakupplevelse i lantlig miljö! Den 
 17 april kl. 18 dukar vi upp vår härliga påskbuffé med klassiska och m
 oderna inslag.\n\n🎵 Buffé och musik med Lars och Greger från Pepper 
 🎵\n\n\n\n\n\n🍽 Vad sägs om:\n\n 	Nybakat bröd och krämiga röror\
 n 	Ägg i olika varianter\n 	Sillar\n 	Lättgravad lax och andra påskfavo
 riter\n 	Mustiga pajer och färska primörer\n\n🌾 Avsluta med en kopp k
 affe och något sött från dessertbordet\, allt i vår mysiga raggsocksmi
 ljö!\n\n&nbsp\;\n\n📅 Datum: 17 april\n🕕 Tid: 18:00\n💰 Pris: 299 
 kr\n\n👉 Boka din plats redan idag! Platserna är begränsade\, så vän
 ta inte för länge.\n📞 Ring oss på 0707-485799\n\nVi ser fram emot at
 t fira påsken tillsammans med dig! 🌸🐑
ATTACH;FMTTYPE=image/jpeg:https://farmlodge.se/wp-content/uploads/2022/04/
 gladpask-hona.jpg
CATEGORIES:Event
END:VEVENT
BEGIN:VTIMEZONE
TZID:Europe/Stockholm
X-LIC-LOCATION:Europe/Stockholm
BEGIN:DAYLIGHT
DTSTART:20250330T030000
TZOFFSETFROM:+0100
TZOFFSETTO:+0200
TZNAME:CEST
END:DAYLIGHT
END:VTIMEZONE
END:VCALENDAR