BEGIN:VCALENDAR
VERSION:2.0
PRODID:-//wp-events-plugin.com//7.2.2.1//EN
TZID:Europe/Stockholm
X-WR-TIMEZONE:Europe/Stockholm
BEGIN:VEVENT
UID:1445@farmlodge.se
DTSTART;TZID=Europe/Stockholm:20260411T110000
DTEND;TZID=Europe/Stockholm:20260411T160000
DTSTAMP:20260406T091511Z
URL:https://farmlodge.se/events/fjadrar-fika-farmlycka-valkommen-till-pask
 firande-pa-garden-2026-04-11/
SUMMARY:Fjädrar\, fika & farmlycka – Välkommen till påskfirande på g
 ården!
DESCRIPTION:Välkommen till Gården &amp\; Caféet – Fira påsken med oss
 !\n\nUnder påsken bjuder vi in dig till en härlig stund på gården! Vi 
 serverar alltid vår värmande morotssoppa\, smörgåsar\, och flera andra
  rätter – perfekt för att njuta av påskens lediga dagar. Avsluta gär
 na med en god fika och en kopp kaffe i vår hemtrevliga miljö.\n\nHäng p
 å gården\n\nNjut av påsken på landet! Hos oss kan både barn och vuxna
  umgås med våra katter\, kaniner\, höns\, ponnyer\, grisar\, getter\, o
 ch ankor. Upplev den lantliga miljön och njut av att vara nära naturen.\
 n\nVad kostar inträdet?\n\nVi tar en inträdesavgift på 50 kr per person
  (barn under 2 år gratis)\, som gäller under hela dagens öppettider. In
 trädet kan betalas med Swish eller direkt i vårt café.\n\n&nbsp\;\n\nTa
 ck för att du stödjer vår gård! Vi ser fram emot att fira påsk med di
 g på Farmlodge.
ATTACH;FMTTYPE=image/jpeg:https://farmlodge.se/wp-content/uploads/2025/11/
 Snovindpask-scaled.jpg
CATEGORIES:Öppettider
END:VEVENT
BEGIN:VTIMEZONE
TZID:Europe/Stockholm
X-LIC-LOCATION:Europe/Stockholm
BEGIN:DAYLIGHT
DTSTART:20260329T030000
TZOFFSETFROM:+0100
TZOFFSETTO:+0200
TZNAME:CEST
END:DAYLIGHT
END:VTIMEZONE
END:VCALENDAR