BEGIN:VCALENDAR
VERSION:2.0
PRODID:-//wp-events-plugin.com//7.2.2.1//EN
TZID:Europe/Stockholm
X-WR-TIMEZONE:Europe/Stockholm
BEGIN:VEVENT
UID:447@farmlodge.se
DTSTART;TZID=Europe/Stockholm:20241030T140000
DTEND;TZID=Europe/Stockholm:20241030T160000
DTSTAMP:20241011T064139Z
URL:https://farmlodge.se/events/hostlovspyssel-pa-garden-%f0%9f%8d%82%e2%9
 c%a8/
SUMMARY:Höstlovspyssel på Gården! 🍂✨
DESCRIPTION:Gratis Höstlovspyssel  på Gården! 🍂✨\nVälkomna till e
 n kreativ pysselstund hos oss! Onsdag den 30 oktober kl. 14:00–16:00 bju
 der vi in både barn och vuxna att skapa sina egna brännmaneter i en avsl
 appnad lantlig miljö. Under samma tid är vårt minizoo öppet\, så pass
 a på att träffa alla våra härliga djur! 🐐🐰🐓\n\nVi bjuder på 
 chokladboll och Smakis under pysslet som en liten höstlovsfika. 🥤🍫\
 n\nDatum &amp\; Tid: Onsdag 30/10 kl. 14:00–16:00\nPris: Pyssel är grat
 is\, inträde till minizoo 50 SEK/person\n\nIngen föranmälan behövs –
  kom som ni är och njut av en kreativ och mysig höstdag hos oss! 🍁
 👨‍👩‍👧‍👦\n
ATTACH;FMTTYPE=image/jpeg:https://farmlodge.se/wp-content/uploads/2024/10/
 image0-scaled.jpeg
CATEGORIES:Event
END:VEVENT
BEGIN:VTIMEZONE
TZID:Europe/Stockholm
X-LIC-LOCATION:Europe/Stockholm
BEGIN:STANDARD
DTSTART:20241027T020000
TZOFFSETFROM:+0200
TZOFFSETTO:+0100
TZNAME:CET
END:STANDARD
END:VTIMEZONE
END:VCALENDAR