BEGIN:VCALENDAR
VERSION:2.0
PRODID:-//wp-events-plugin.com//7.2.2.1//EN
TZID:Europe/Stockholm
X-WR-TIMEZONE:Europe/Stockholm
BEGIN:VEVENT
UID:448@farmlodge.se
DTSTART;TZID=Europe/Stockholm:20241224T150000
DTEND;TZID=Europe/Stockholm:20241225T110000
DTSTAMP:20241113T105944Z
URL:https://farmlodge.se/events/julafton-pa-farmlodge-endast-tomten-ar-vak
 en-%f0%9f%8e%85%e2%9c%a8/
SUMMARY:Julafton på Farmlodge – Endast tomten är vaken 🎅✨
DESCRIPTION:\n\n\n\nJulafton på Farmlodge – Endast tomten är vaken 🎅
 ✨\n\n\n\n\n\n\n\n\n\n\n\nFira en magisk julafton hos oss på Farmlodge\,
  där julens lugn och glädje väntar i vår lantliga raggsocksmiljö. Upp
 lev en minnesvärd kväll och natt fylld av hemtrevlig värme\, julens sma
 ker och närhet till våra djur på gården.\n\nI paketet för julafton in
 går:\n\n 	Incheckning från kl. 14:00\n 	En natt i lantlig miljö där ju
 lstämningen är på topp\n 	Eftermiddagsfika med hembakade godsaker och v
 arm dryck\, perfekt för att inleda julmyset\n 	Ett gediget julbord med BB
 Q-revben\, BBQ-kyckling\, lax\, köttbullar\, prinskorv\, skinka och  kla
 ssiska tillbehör som potatis\, potatisgratäng\, Janssons frestelse\, sil
 l\, julsallad och mycket mer – hemlagat och med omsorg för att skapa ju
 lens bästa smaker\n 	Frukostbuffé på juldagsmorgonen med nybakat bröd 
 \, en skön och god start på dagen\n 	Tid med våra djur – klappa gette
 r\, mys med kaniner och ge en extra klapp bakom örat på våra charmiga m
 inigrisar\n 	Utcheckning senast kl. 11:00 på juldagen\n\n&nbsp\;\n\nLåt 
 julafton bli något alldeles extra i år. Här på Farmlodge\, bara en och
  en halv timmes bilresa norr om Göteborg och nära både Lysekil och have
 t\, kan ni fira julen i harmoni med naturen\, djuren och julens magi. Vi s
 er fram emot att välkomna er till en julafton fylld av värme\, gemenskap
  och genuin julkänsla.\n\nBOKA HÄR\n\n\n\n\n\n\n
ATTACH;FMTTYPE=image/jpeg:https://farmlodge.se/wp-content/uploads/2024/11/
 FB-VINTER.png
CATEGORIES:Boendepaket,Event
END:VEVENT
BEGIN:VTIMEZONE
TZID:Europe/Stockholm
X-LIC-LOCATION:Europe/Stockholm
BEGIN:STANDARD
DTSTART:20241027T020000
TZOFFSETFROM:+0200
TZOFFSETTO:+0100
TZNAME:CET
END:STANDARD
END:VTIMEZONE
END:VCALENDAR