BEGIN:VCALENDAR
VERSION:2.0
PRODID:-//wp-events-plugin.com//7.2.2.1//EN
TZID:Europe/Stockholm
X-WR-TIMEZONE:Europe/Stockholm
BEGIN:VEVENT
UID:1295@farmlodge.se
DTSTART;TZID=Europe/Stockholm:20261201T080000
DTEND;TZID=Europe/Stockholm:20261201T100000
DTSTAMP:20260223T105340Z
URL:https://farmlodge.se/events/julfrukost-2-2026-12-01/
SUMMARY:JULFRUKOST
DESCRIPTION:🎄 JULFRUKOST\n8.00–10.00 | 249 kr\nTända ljus.Doft av kan
 el och kaffe.En gård som vaknar långsamt.\nRisgrynsgrötSkinkaPrinskorvK
 öttbullarÄgghalvorSillHembakat brödKaffe &amp\; te\nEn mjuk start på d
 agen för företag\, familj eller vänner.
ATTACH;FMTTYPE=image/jpeg:https://farmlodge.se/wp-content/uploads/2026/02/
 Julfrukost.png
CATEGORIES:Jul frukost
END:VEVENT
BEGIN:VTIMEZONE
TZID:Europe/Stockholm
X-LIC-LOCATION:Europe/Stockholm
BEGIN:STANDARD
DTSTART:20261025T020000
TZOFFSETFROM:+0200
TZOFFSETTO:+0100
TZNAME:CET
END:STANDARD
END:VTIMEZONE
END:VCALENDAR