BEGIN:VCALENDAR
VERSION:2.0
PRODID:-//wp-events-plugin.com//7.2.2.1//EN
TZID:Europe/Stockholm
X-WR-TIMEZONE:Europe/Stockholm
BEGIN:VEVENT
UID:1271@farmlodge.se
DTSTART;TZID=Europe/Stockholm:20261201T120000
DTEND;TZID=Europe/Stockholm:20261201T140000
DTSTAMP:20260223T105448Z
URL:https://farmlodge.se/events/jullunch-2026-12-01/
SUMMARY:Jullunch
DESCRIPTION:🎄 Jullunch\n12.00–14.00 | 369 kr\nVi dukar upp en jullunch
  mitt på dagen.\nSill.Julskinka och ägghalvor.Köttbullar\, prinskorv oc
 h Janssons. Potatis och senap.Hembakat bröd och smör.\nOch något sött
  till kaffet.\nLagat från grunden.Enkel och god julstund på gården.\nV
 älkommen hem till oss.
ATTACH;FMTTYPE=image/jpeg:https://farmlodge.se/wp-content/uploads/2026/02/
 Lunch.png
CATEGORIES:Jul lunch
END:VEVENT
BEGIN:VTIMEZONE
TZID:Europe/Stockholm
X-LIC-LOCATION:Europe/Stockholm
BEGIN:STANDARD
DTSTART:20261025T020000
TZOFFSETFROM:+0200
TZOFFSETTO:+0100
TZNAME:CET
END:STANDARD
END:VTIMEZONE
END:VCALENDAR