BEGIN:VCALENDAR
VERSION:2.0
PRODID:-//wp-events-plugin.com//7.2.2.1//EN
TZID:Europe/Stockholm
X-WR-TIMEZONE:Europe/Stockholm
BEGIN:VEVENT
UID:1117@farmlodge.se
DTSTART;TZID=Europe/Stockholm:20260613T110000
DTEND;TZID=Europe/Stockholm:20260618T200000
DTSTAMP:20260115T173236Z
URL:https://farmlodge.se/events/njut-av-juni-pa-garden/
SUMMARY:Njut av juni på gården!
DESCRIPTION:Välkommen till Gården &amp\; Restaurang – Sommaren är här
 !\n\nSommaren har anlänt till Farmlodge\, och vi inbjuder dig att uppleva
  det mest älskade med vår gård – att klappa våra djur! Här kan båd
 e barn och vuxna umgås med våra katter\, kaniner\, höns\, ponnyer\, gri
 sar\, getter och ankor. Att interagera med djuren är en oförglömlig upp
 levelse som ger glädje och närhet till naturen.\n\nSmakfulla stunder i v
 år restaurang\n\nEfter en rolig stund med våra djur kan du njuta av en m
 åltid i vår restaurang. Vi erbjuder en meny fylld med läckra rätter\, 
 inklusive vår berömda morotssoppa\, smörgåsar och andra hemlagade deli
 katesser. Kom och njut av god mat i en lantlig miljö där du kan koppla a
 v.\n\nInträde och information\n\nFör att vi ska kunna fortsätta driva v
 år gård tar vi en inträdesavgift på 50 kr per person (barn under 2 år
  gratis)\, som gäller under hela dagens öppettider. Inträdet kan betala
 s med Swish eller direkt i vårt café.\n\nVi ser fram emot att välkomna 
 dig till Farmlodge denna sommar för att klappa djuren och njuta av god ma
 t i en härlig miljö!
ATTACH;FMTTYPE=image/jpeg:https://farmlodge.se/wp-content/uploads/2022/05/
 Getmiddag1-scaled.jpg
CATEGORIES:Öppettider
END:VEVENT
BEGIN:VTIMEZONE
TZID:Europe/Stockholm
X-LIC-LOCATION:Europe/Stockholm
BEGIN:DAYLIGHT
DTSTART:20260329T030000
TZOFFSETFROM:+0100
TZOFFSETTO:+0200
TZNAME:CEST
END:DAYLIGHT
END:VTIMEZONE
END:VCALENDAR