BEGIN:VCALENDAR
VERSION:2.0
PRODID:-//wp-events-plugin.com//7.2.2.1//EN
TZID:Europe/Stockholm
X-WR-TIMEZONE:Europe/Stockholm
BEGIN:VEVENT
UID:1349@farmlodge.se
DTSTART;TZID=Europe/Stockholm:20261205T100000
DTEND;TZID=Europe/Stockholm:20261205T190000
DTSTAMP:20260223T135713Z
URL:https://farmlodge.se/events/ta-med-julen-hem-2026-12-05/
SUMMARY:Ta med julen hem
DESCRIPTION:TA MED\n369 kr per person\n\nTvå serveringar:\n\nKall tallrik\
 nSill\, julskinka\, ägghalva\, sallad\, sillpotatis och senap\n\nVarm tal
 lrik\nKöttbullar\, prinskorv och Janssons\n\nAvslutas med något sött.\n
 \nBeställ minst 48 timmar i förväg.\nFinns att boka alla dagar
ATTACH;FMTTYPE=image/jpeg:https://farmlodge.se/wp-content/uploads/2022/04/
 Jumper01-scaled.jpg
CATEGORIES:Jul tallrik / Catering
END:VEVENT
BEGIN:VTIMEZONE
TZID:Europe/Stockholm
X-LIC-LOCATION:Europe/Stockholm
BEGIN:STANDARD
DTSTART:20261025T020000
TZOFFSETFROM:+0200
TZOFFSETTO:+0100
TZNAME:CET
END:STANDARD
END:VTIMEZONE
END:VCALENDAR