BEGIN:VCALENDAR
VERSION:2.0
PRODID:-//wp-events-plugin.com//7.2.2.1//EN
TZID:Europe/Stockholm
X-WR-TIMEZONE:Europe/Stockholm
BEGIN:VEVENT
UID:27@farmlodge.se
DTSTART;TZID=Europe/Stockholm:20240509T110000
DTEND;TZID=Europe/Stockholm:20240512T160000
DTSTAMP:20231117T183437Z
URL:https://farmlodge.se/events/valkommen-till-garden-cafeet-4/
SUMMARY:Välkommen till Gården & caféet!
DESCRIPTION:Idag är Gården &amp\; caféet öppet och vi har en fantastisk
  meny att erbjuda. Vi serverar både pannkakor\, mackor och lunchrätter\,
  allt tillagat från grunden. Kom och njut av våra smakrika rätter och a
 vsluta med en välbehövlig fika och kaffe. Välkommen till oss!\nHäng p
 å gården\nLängtar du efter en lugn stund och miljöombyte i vardagen?\n
 \nPå gården kan barn och vuxna umgås med katter\, kaniner\, höns\, pon
 nyer\, grisar\, getter\, ankor och njuta av att vara på landet och nära 
 naturen .\n\n&nbsp\;\nVad kostar inträdet?\nFarmlodge är en gård som dr
 ivs helt utan statliga medel. För att vår gård ska kunna fortsätta blo
 mstra och utvecklas behöver vi din hjälp. Därför ber vi om en inträde
 savgift för att täcka våra kostnader och visa ditt stöd för vårt arb
 ete.\n\nVi rekommenderar en inträdesavgift på mellan 50 och 200 kronor p
 er person. Detta belopp är inte bara för att täcka våra kostnader\, ut
 an också för att visa din uppskattning för det arbete vi lägger ner p
 å gården. Inträdesavgiften gäller för en hel dag och kan betalas med 
 Swish eller i vårt café när du anländer till Farmlodge.\n\nVi är tack
 samma för varje bidrag och ser fram emot att välkomna dig till vår går
 d. Tillsammans kan vi fortsätta att skapa en blomstrande och hållbar mil
 jö för både djur och människor.\n\nTack för ditt stöd och vi ser fra
 m emot att träffa dig på Farmlodge!
ATTACH;FMTTYPE=image/jpeg:https://farmlodge.se/wp-content/uploads/2022/05/
 Getmiddag1-scaled.jpg
CATEGORIES:Öppettider
LOCATION:Toric Farmlodge AB\, Nöteberg 112\, Brastad\, Västra Götaland\,
  454 91\, Sverige
X-APPLE-STRUCTURED-LOCATION;VALUE=URI;X-ADDRESS=Nöteberg 112\, Brastad\, V
 ästra Götaland\, 454 91\, Sverige;X-APPLE-RADIUS=100;X-TITLE=Toric Farml
 odge AB:geo:0,0
END:VEVENT
BEGIN:VTIMEZONE
TZID:Europe/Stockholm
X-LIC-LOCATION:Europe/Stockholm
BEGIN:DAYLIGHT
DTSTART:20240331T030000
TZOFFSETFROM:+0100
TZOFFSETTO:+0200
TZNAME:CEST
END:DAYLIGHT
END:VTIMEZONE
END:VCALENDAR